BEGIN:VCALENDAR
VERSION:2.0
PRODID:spatie/icalendar-generator
DESCRIPTION:Veranstaltungen von Albert-Schweitzer-Schule
X-WR-CALDESC:Veranstaltungen von Albert-Schweitzer-Schule
REFRESH-INTERVAL;VALUE=DURATION:PT1440M
X-PUBLISHED-TTL:PT1440M
BEGIN:VTIMEZONE
TZID:Europe/Berlin
BEGIN:STANDARD
DTSTART:20241027T030000Z
TZOFFSETFROM:+0200
TZOFFSETTO:+0100
END:STANDARD
BEGIN:DAYLIGHT
DTSTART:20250330T020000Z
TZOFFSETFROM:+0100
TZOFFSETTO:+0200
END:DAYLIGHT
BEGIN:STANDARD
DTSTART:20251026T030000Z
TZOFFSETFROM:+0200
TZOFFSETTO:+0100
END:STANDARD
END:VTIMEZONE
BEGIN:VTIMEZONE
TZID:UTC
BEGIN:STANDARD
DTSTART:20250725T100706Z
TZOFFSETFROM:+0000
TZOFFSETTO:+0000
END:STANDARD
END:VTIMEZONE
BEGIN:VEVENT
UID:243-32
DTSTAMP:20260421T100706Z
SUMMARY:KomPo 7
LOCATION:Unsere Schule Molitorstraße 14  Viernheim Hessen 68519
ORGANIZER;CN=Holger Hofmann:MAILTO:holger.hofmann@kreis-bergstrasse.de
DTSTART;TZID=Europe/Berlin:20250425T075500
DTEND;TZID=Europe/Berlin:20250425T125500
X-ALT-DESC;FMTTYPE=TEXT/HTML:Kompetenzfeststellungsverfahren der BO-Stufe.
CATEGORIES:Klassenveranstaltung
URL;VALUE=URI:http://www.ass-viernheim.de/mc-events/kompo-7-3/
METHOD:PUBLISH
END:VEVENT
END:VCALENDAR