BEGIN:VCALENDAR
VERSION:2.0
PRODID:spatie/icalendar-generator
DESCRIPTION:Veranstaltungen von Albert-Schweitzer-Schule
X-WR-CALDESC:Veranstaltungen von Albert-Schweitzer-Schule
REFRESH-INTERVAL;VALUE=DURATION:PT1440M
X-PUBLISHED-TTL:PT1440M
BEGIN:VTIMEZONE
TZID:Europe/Berlin
BEGIN:STANDARD
DTSTART:20251026T030000Z
TZOFFSETFROM:+0200
TZOFFSETTO:+0100
END:STANDARD
BEGIN:DAYLIGHT
DTSTART:20260329T020000Z
TZOFFSETFROM:+0100
TZOFFSETTO:+0200
END:DAYLIGHT
END:VTIMEZONE
BEGIN:VTIMEZONE
TZID:UTC
BEGIN:STANDARD
DTSTART:20250724T084440Z
TZOFFSETFROM:+0000
TZOFFSETTO:+0000
END:STANDARD
END:VTIMEZONE
BEGIN:VEVENT
UID:290-72
DTSTAMP:20260420T084440Z
SUMMARY:erster Schultag nach den Weihnachtsferien
LOCATION:Unsere Schule Molitorstraße 14  Viernheim Hessen 68519
ORGANIZER;CN=Holger Hofmann:MAILTO:holger.hofmann@kreis-bergstrasse.de
DTSTART;TZID=Europe/Berlin:20260112T075500
DTEND;TZID=Europe/Berlin:20260112T125500
X-ALT-DESC;FMTTYPE=TEXT/HTML:Unterricht nach Plan
CATEGORIES:General
URL;VALUE=URI:http://www.ass-viernheim.de/mc-events/erster-schultag-nach-de
 n-weihnachtsferien/
METHOD:PUBLISH
END:VEVENT
END:VCALENDAR