BEGIN:VCALENDAR
VERSION:2.0
PRODID:spatie/icalendar-generator
DESCRIPTION:Veranstaltungen von Albert-Schweitzer-Schule
X-WR-CALDESC:Veranstaltungen von Albert-Schweitzer-Schule
REFRESH-INTERVAL;VALUE=DURATION:PT1440M
X-PUBLISHED-TTL:PT1440M
BEGIN:VTIMEZONE
TZID:Europe/Berlin
BEGIN:STANDARD
DTSTART:20241027T030000Z
TZOFFSETFROM:+0200
TZOFFSETTO:+0100
END:STANDARD
BEGIN:DAYLIGHT
DTSTART:20250330T020000Z
TZOFFSETFROM:+0100
TZOFFSETTO:+0200
END:DAYLIGHT
END:VTIMEZONE
BEGIN:VTIMEZONE
TZID:UTC
BEGIN:STANDARD
DTSTART:20250726T113316Z
TZOFFSETFROM:+0000
TZOFFSETTO:+0000
END:STANDARD
END:VTIMEZONE
BEGIN:VEVENT
UID:227-18
DTSTAMP:20260422T113316Z
SUMMARY:Mitgliederversammlung des Fördervereins
LOCATION:Unsere Schule Molitorstraße 14  Viernheim Hessen 68519
ORGANIZER;CN=Holger Hofmann:MAILTO:holger.hofmann@kreis-bergstrasse.de
DTSTART;TZID=Europe/Berlin:20250227T153000
DTEND;TZID=Europe/Berlin:20250227T170000
X-ALT-DESC;FMTTYPE=TEXT/HTML:Hierzu lädt der Vorstand recht herzlich ein.
CATEGORIES:General
URL;VALUE=URI:http://www.ass-viernheim.de/mc-events/mitgliederversammlung-d
 es-foerdervereins/
METHOD:PUBLISH
END:VEVENT
END:VCALENDAR