BEGIN:VCALENDAR
VERSION:2.0
PRODID:spatie/icalendar-generator
DESCRIPTION:Veranstaltungen von Albert-Schweitzer-Schule
X-WR-CALDESC:Veranstaltungen von Albert-Schweitzer-Schule
REFRESH-INTERVAL;VALUE=DURATION:PT1440M
X-PUBLISHED-TTL:PT1440M
BEGIN:VTIMEZONE
TZID:Europe/Berlin
BEGIN:DAYLIGHT
DTSTART:20260329T020000Z
TZOFFSETFROM:+0100
TZOFFSETTO:+0200
END:DAYLIGHT
BEGIN:STANDARD
DTSTART:20261025T030000Z
TZOFFSETFROM:+0200
TZOFFSETTO:+0100
END:STANDARD
BEGIN:DAYLIGHT
DTSTART:20270328T020000Z
TZOFFSETFROM:+0100
TZOFFSETTO:+0200
END:DAYLIGHT
END:VTIMEZONE
BEGIN:VTIMEZONE
TZID:UTC
BEGIN:STANDARD
DTSTART:20250724T080113Z
TZOFFSETFROM:+0000
TZOFFSETTO:+0000
END:STANDARD
END:VTIMEZONE
BEGIN:VEVENT
UID:189-10
DTSTAMP:20260420T080113Z
SUMMARY:Tag der Deutschen Einheit
LOCATION:Unsere Schule Molitorstraße 14  Viernheim Hessen 68519
ORGANIZER;CN=Ronny Böttcher (ADMIN):MAILTO:webseite_r.boettcher_adm@ass-vi
 ernheim.de
RRULE:FREQ=YEARLY;BYMONTH=10;BYDAY=03;UNTIL=20541231T000000Z
DTSTART;TZID=Europe/Berlin;VALUE=DATE:20261003
DTEND;TZID=Europe/Berlin;VALUE=DATE:20261004
X-ALT-DESC;FMTTYPE=TEXT/HTML:
CATEGORIES:FEIERTAG
URL;VALUE=URI:https://www.ass-viernheim.de/mc-events/tag-der-deutschen-einh
 eit/?mc_id=189
METHOD:PUBLISH
END:VEVENT
END:VCALENDAR