BEGIN:VCALENDAR
VERSION:2.0
PRODID:spatie/icalendar-generator
DESCRIPTION:Veranstaltungen von Albert-Schweitzer-Schule
X-WR-CALDESC:Veranstaltungen von Albert-Schweitzer-Schule
REFRESH-INTERVAL;VALUE=DURATION:PT1440M
X-PUBLISHED-TTL:PT1440M
BEGIN:VTIMEZONE
TZID:Europe/Berlin
BEGIN:STANDARD
DTSTART:20241027T030000Z
TZOFFSETFROM:+0200
TZOFFSETTO:+0100
END:STANDARD
BEGIN:DAYLIGHT
DTSTART:20250330T020000Z
TZOFFSETFROM:+0100
TZOFFSETTO:+0200
END:DAYLIGHT
BEGIN:STANDARD
DTSTART:20251026T030000Z
TZOFFSETFROM:+0200
TZOFFSETTO:+0100
END:STANDARD
END:VTIMEZONE
BEGIN:VTIMEZONE
TZID:UTC
BEGIN:STANDARD
DTSTART:20250726T085330Z
TZOFFSETFROM:+0000
TZOFFSETTO:+0000
END:STANDARD
END:VTIMEZONE
BEGIN:VEVENT
UID:249-38
DTSTAMP:20260422T085330Z
SUMMARY:Sport- und Wandertag
LOCATION:Unsere Schule Molitorstraße 14  Viernheim Hessen 68519
ORGANIZER;CN=Holger Hofmann:MAILTO:holger.hofmann@kreis-bergstrasse.de
DTSTART;TZID=Europe/Berlin:20250618T075500
DTEND;TZID=Europe/Berlin:20250618T125500
X-ALT-DESC;FMTTYPE=TEXT/HTML:
CATEGORIES:Ausflug
URL;VALUE=URI:https://www.ass-viernheim.de/mc-events/sport-und-wandertag/
METHOD:PUBLISH
END:VEVENT
END:VCALENDAR