BEGIN:VCALENDAR
VERSION:2.0
PRODID:spatie/icalendar-generator
DESCRIPTION:Veranstaltungen von Albert-Schweitzer-Schule
X-WR-CALDESC:Veranstaltungen von Albert-Schweitzer-Schule
REFRESH-INTERVAL;VALUE=DURATION:PT1440M
X-PUBLISHED-TTL:PT1440M
BEGIN:VTIMEZONE
TZID:Europe/Berlin
BEGIN:STANDARD
DTSTART:20251026T030000Z
TZOFFSETFROM:+0200
TZOFFSETTO:+0100
END:STANDARD
BEGIN:DAYLIGHT
DTSTART:20260329T020000Z
TZOFFSETFROM:+0100
TZOFFSETTO:+0200
END:DAYLIGHT
END:VTIMEZONE
BEGIN:VTIMEZONE
TZID:UTC
BEGIN:STANDARD
DTSTART:20250724T075006Z
TZOFFSETFROM:+0000
TZOFFSETTO:+0000
END:STANDARD
END:VTIMEZONE
BEGIN:VEVENT
UID:308-80
DTSTAMP:20260420T075006Z
SUMMARY:Faschingsdisco
LOCATION:Unsere Schule Molitorstraße 14  Viernheim Hessen 68519
ORGANIZER;CN=Holger Hofmann (ADMIN):MAILTO:webseite_h.hofmann_adm@ass-viern
 heim.de
DTSTART;TZID=Europe/Berlin:20260213T075500
DTEND;TZID=Europe/Berlin:20260213T111100
X-ALT-DESC;FMTTYPE=TEXT/HTML:Faschingsfeier der gesamten Schülerschaft in 
 Verantwortung der SV.
CATEGORIES:Schulveranstaltung
URL;VALUE=URI:https://www.ass-viernheim.de/mc-events/faschingsdisco-4/
METHOD:PUBLISH
END:VEVENT
END:VCALENDAR