BEGIN:VCALENDAR
VERSION:2.0
PRODID:spatie/icalendar-generator
DESCRIPTION:Veranstaltungen von Albert-Schweitzer-Schule
X-WR-CALDESC:Veranstaltungen von Albert-Schweitzer-Schule
REFRESH-INTERVAL;VALUE=DURATION:PT1440M
X-PUBLISHED-TTL:PT1440M
BEGIN:VTIMEZONE
TZID:Europe/Berlin
BEGIN:STANDARD
DTSTART:20401028T030000Z
TZOFFSETFROM:+0200
TZOFFSETTO:+0100
END:STANDARD
BEGIN:DAYLIGHT
DTSTART:20410331T020000Z
TZOFFSETFROM:+0100
TZOFFSETTO:+0200
END:DAYLIGHT
END:VTIMEZONE
BEGIN:VTIMEZONE
TZID:UTC
BEGIN:STANDARD
DTSTART:20250727T083909Z
TZOFFSETFROM:+0000
TZOFFSETTO:+0000
END:STANDARD
END:VTIMEZONE
BEGIN:VEVENT
UID:51-5
DTSTAMP:20260423T083909Z
SUMMARY:Weihnachten (1. Feiertag)
LOCATION:Unsere Schule Molitorstraße 14  Viernheim Hessen 68519
ORGANIZER;CN=Ronny Böttcher (ADMIN):MAILTO:webseite_r.boettcher_adm@ass-vi
 ernheim.de
RRULE:FREQ=YEARLY;BYMONTH=12;BYDAY=25;UNTIL=20541231T000000Z
DTSTART;TZID=Europe/Berlin;VALUE=DATE:20401225
DTEND;TZID=Europe/Berlin;VALUE=DATE:20401226
X-ALT-DESC;FMTTYPE=TEXT/HTML:
CATEGORIES:FEIERTAG
URL;VALUE=URI:https://www.ass-viernheim.de/mc-events/weihnachten-1-feiertag
 /?mc_id=51
METHOD:PUBLISH
END:VEVENT
END:VCALENDAR